BEGIN:VCALENDAR
VERSION:2.0
PRODID:-//Family Promise of Lycoming County - ECPv6.15.20//NONSGML v1.0//EN
CALSCALE:GREGORIAN
METHOD:PUBLISH
X-WR-CALNAME:Family Promise of Lycoming County
X-ORIGINAL-URL:https://familypromiselycoming.org
X-WR-CALDESC:Events for Family Promise of Lycoming County
REFRESH-INTERVAL;VALUE=DURATION:PT1H
X-Robots-Tag:noindex
X-PUBLISHED-TTL:PT1H
BEGIN:VTIMEZONE
TZID:America/New_York
BEGIN:DAYLIGHT
TZOFFSETFROM:-0500
TZOFFSETTO:-0400
TZNAME:EDT
DTSTART:20160313T070000
END:DAYLIGHT
BEGIN:STANDARD
TZOFFSETFROM:-0400
TZOFFSETTO:-0500
TZNAME:EST
DTSTART:20161106T060000
END:STANDARD
BEGIN:DAYLIGHT
TZOFFSETFROM:-0500
TZOFFSETTO:-0400
TZNAME:EDT
DTSTART:20170312T070000
END:DAYLIGHT
BEGIN:STANDARD
TZOFFSETFROM:-0400
TZOFFSETTO:-0500
TZNAME:EST
DTSTART:20171105T060000
END:STANDARD
BEGIN:DAYLIGHT
TZOFFSETFROM:-0500
TZOFFSETTO:-0400
TZNAME:EDT
DTSTART:20180311T070000
END:DAYLIGHT
BEGIN:STANDARD
TZOFFSETFROM:-0400
TZOFFSETTO:-0500
TZNAME:EST
DTSTART:20181104T060000
END:STANDARD
END:VTIMEZONE
BEGIN:VEVENT
DTSTART;TZID=America/New_York:20170505T193000
DTEND;TZID=America/New_York:20170506T220000
DTSTAMP:20260420T185642
CREATED:20170427T232706Z
LAST-MODIFIED:20170428T194651Z
UID:3791-1494012600-1494108000@familypromiselycoming.org
SUMMARY:"GODSPELL" For Family Promise
DESCRIPTION:
URL:https://familypromiselycoming.org/event/godspell-for-family-promise/
LOCATION:Castellano Center\, 320 Park Avenue\, Williamsport\, PA\, 17701\, United States
END:VEVENT
END:VCALENDAR